BEGIN:VCALENDAR
VERSION:2.0
PRODID:-//Tukios.com/
BEGIN:VEVENT
UID:339ecd3f-1899-4e1e-a25b-b180b42d27cf@www.alspachgearhart.com
DTSTAMP:20260420T170534Z
DTSTART:20260426T180000Z
DTEND:20260426T220000Z
SUMMARY:Visitation
DESCRIPTION:
URL:https://www.alspachgearhart.com/obituaries/virginia-preston
LOCATION: 722 S Washington St.  Van Wert OH 45891
GEO:40.8620299;-84.5824878
END:VEVENT
END:VCALENDAR