BEGIN:VCALENDAR
VERSION:2.0
PRODID:-//Tukios.com/
BEGIN:VEVENT
UID:1947a6fe-b2ef-4a1b-af1e-98505c5b3767@www.alspachgearhart.com
DTSTAMP:20260420T170928Z
DTSTART:20260427T133000Z
DTEND:20260427T143000Z
SUMMARY:Visitation
DESCRIPTION:
URL:https://www.alspachgearhart.com/obituaries/virginia-preston
LOCATION: 722 S Washington St.  Van Wert OH 45891
GEO:40.8620299;-84.5824878
END:VEVENT
END:VCALENDAR