BEGIN:VCALENDAR
VERSION:2.0
PRODID:-//Tukios.com/
BEGIN:VEVENT
UID:0119e81d-bf99-4108-bb94-8a8bdbf117e7@www.alspachgearhart.com
DTSTAMP:20260420T170504Z
DTSTART:20260427T143000Z
DTEND:20260427T150000Z
SUMMARY:Memorial Service
DESCRIPTION:
URL:https://www.alspachgearhart.com/obituaries/virginia-preston
LOCATION: 722 S Washington St.  Van Wert OH 45891
GEO:40.8620299;-84.5824878
END:VEVENT
END:VCALENDAR