BEGIN:VCALENDAR
VERSION:2.0
PRODID:-//Tukios.com/
BEGIN:VEVENT
UID:999e110a-222f-45be-942d-f0c72df40bb3@www.alspachgearhart.com
DTSTAMP:20260420T170837Z
DTSTART:20260427T154500Z
DTEND:20260427T160000Z
SUMMARY:Committal Service
DESCRIPTION:
URL:https://www.alspachgearhart.com/obituaries/virginia-preston
LOCATION: 722 S Washington St.  Van Wert OH 45891
GEO:40.8620299;-84.5824878
END:VEVENT
END:VCALENDAR