BEGIN:VCALENDAR
VERSION:2.0
PRODID:-//Tukios.com/
BEGIN:VEVENT
UID:5b94aed6-04a5-485b-9e67-52d2439f7480@www.alspachgearhart.com
DTSTAMP:20260422T000625Z
DTSTART:20260424T200000Z
DTEND:20260425T000000Z
SUMMARY:Visitation
DESCRIPTION:
URL:https://www.alspachgearhart.com/obituaries/thelma-weiss-ditmyer
LOCATION: 722 S Washington St  Van Wert OH 45891
GEO:40.8620299;-84.5824878
END:VEVENT
END:VCALENDAR