BEGIN:VCALENDAR
VERSION:2.0
PRODID:-//Tukios.com/
BEGIN:VEVENT
UID:bd94b839-d35b-48c3-affd-94c0634d91a1@www.alspachgearhart.com
DTSTAMP:20260421T235906Z
DTSTART:20260425T133000Z
DTEND:20260425T143000Z
SUMMARY:Visitation
DESCRIPTION:
URL:https://www.alspachgearhart.com/obituaries/thelma-weiss-ditmyer
LOCATION: 722 S Washington St  Van Wert OH 45891
GEO:40.8620299;-84.5824878
END:VEVENT
END:VCALENDAR