BEGIN:VCALENDAR
VERSION:2.0
PRODID:-//Tukios.com/
BEGIN:VEVENT
UID:00f31879-fa1a-407f-b941-b50e4676e13e@www.alspachgearhart.com
DTSTAMP:20260422T000142Z
DTSTART:20260425T143000Z
DTEND:20260425T153000Z
SUMMARY:Funeral Service
DESCRIPTION:
URL:https://www.alspachgearhart.com/obituaries/thelma-weiss-ditmyer
LOCATION: 722 S Washington St  Van Wert OH 45891
GEO:40.8620299;-84.5824878
END:VEVENT
END:VCALENDAR