BEGIN:VCALENDAR
VERSION:2.0
PRODID:-//Tukios.com/
BEGIN:VEVENT
UID:1b273e57-f138-4fbc-8330-69de763b9df3@www.alspachgearhart.com
DTSTAMP:20260422T000656Z
DTSTART:20260425T161500Z
DTEND:20260425T163000Z
SUMMARY:Committal Service
DESCRIPTION:
URL:https://www.alspachgearhart.com/obituaries/thelma-weiss-ditmyer
LOCATION:Ridge Cemetery Lincoln Hwy  Middle point OH 45863
GEO:40.7785605;-98.740868
END:VEVENT
END:VCALENDAR