BEGIN:VCALENDAR
VERSION:2.0
PRODID:-//Tukios.com/
BEGIN:VEVENT
UID:ee6371a6-65fa-4887-b08d-20d8c90aa637@www.alspachgearhart.com
DTSTAMP:20260422T000142Z
DTSTART:20260425T153000Z
DTEND:20260425T173000Z
SUMMARY:Celebration of Life
DESCRIPTION:
URL:https://www.alspachgearhart.com/obituaries/tammy-barr
LOCATION:North Scipio Christian Church 23628 State Rd 37  Harlan IN 46743
GEO:41.2480109;-84.8414044
END:VEVENT
END:VCALENDAR